BEGIN:VCALENDAR
VERSION:2.0
PRODID:-//Brave &amp; Maiden Estate - ECPv6.15.20//NONSGML v1.0//EN
CALSCALE:GREGORIAN
METHOD:PUBLISH
X-WR-CALNAME:Brave &amp; Maiden Estate
X-ORIGINAL-URL:https://braveandmaiden.com
X-WR-CALDESC:Events for Brave &amp; Maiden Estate
REFRESH-INTERVAL;VALUE=DURATION:PT1H
X-Robots-Tag:noindex
X-PUBLISHED-TTL:PT1H
BEGIN:VTIMEZONE
TZID:America/Los_Angeles
BEGIN:DAYLIGHT
TZOFFSETFROM:-0800
TZOFFSETTO:-0700
TZNAME:PDT
DTSTART:20250309T100000
END:DAYLIGHT
BEGIN:STANDARD
TZOFFSETFROM:-0700
TZOFFSETTO:-0800
TZNAME:PST
DTSTART:20251102T090000
END:STANDARD
BEGIN:DAYLIGHT
TZOFFSETFROM:-0800
TZOFFSETTO:-0700
TZNAME:PDT
DTSTART:20260308T100000
END:DAYLIGHT
BEGIN:STANDARD
TZOFFSETFROM:-0700
TZOFFSETTO:-0800
TZNAME:PST
DTSTART:20261101T090000
END:STANDARD
BEGIN:DAYLIGHT
TZOFFSETFROM:-0800
TZOFFSETTO:-0700
TZNAME:PDT
DTSTART:20270314T100000
END:DAYLIGHT
BEGIN:STANDARD
TZOFFSETFROM:-0700
TZOFFSETTO:-0800
TZNAME:PST
DTSTART:20271107T090000
END:STANDARD
END:VTIMEZONE
BEGIN:VEVENT
DTSTART;VALUE=DATE:20260124
DTEND;VALUE=DATE:20260126
DTSTAMP:20260424T081741
CREATED:20250915T222032Z
LAST-MODIFIED:20260114T231810Z
UID:289-1769212800-1769385599@braveandmaiden.com
SUMMARY:RIEDEL Wine Glass Experience
DESCRIPTION:Do the shape and size of your wine glasses really matter? See for yourself at a comparative glass tasting seminar hosted by the world-renowned glass-making family\, RIEDEL\, on Saturday\, January 24 and Sunday\, January 25. \nDive into the history of RIEDEL and experience the impact that shape and size of a wine glass have on your favorite wines. In just one captivating session\, you’ll gain insights into how the shape and design of a glass can enhance the aroma\, taste\, and overall enjoyment of your favorite wines. Don’t miss this unique opportunity to take your wine appreciation to new heights. \nEach guest will receive a set of five RIEDEL Veloce glasses\, valued at $222. \nSmell and taste through a flight of three of our flagship wines in their appropriate stemware. And as an added bonus\, you’ll be able to experience fantastic Pinot Noir and Chardonnay from our Director of Winemaking\, Josh Klapper’s\, personal brand Timbre Wines. \n\n\nSESSION ONE\nSaturday\, January 24\, 2026\n11 am – 12:30pm \nSOLD OUT \n\n\nSESSION TWO\nSunday\, January 25\, 2026\n11am-12:30pm \nSOLD OUT
URL:https://braveandmaiden.com/event/wine-glass-seminar-with-riedel/
LOCATION:Brave & Maiden Estate\, 649 N Refugio Rd\, Santa Ynez\, CA\, 93460\, United States
ATTACH;FMTTYPE=image/jpeg:https://braveandmaiden.com/wp-content/uploads/2025/09/Events-Riedel.jpg
ORGANIZER;CN="Brave & Maiden Estate":MAILTO:inquiries@braveandmaiden.com
END:VEVENT
BEGIN:VEVENT
DTSTART;TZID=America/Los_Angeles:20260221T180000
DTEND;TZID=America/Los_Angeles:20260221T203000
DTSTAMP:20260424T081741
CREATED:20260109T182357Z
LAST-MODIFIED:20260121T200750Z
UID:655-1771696800-1771705800@braveandmaiden.com
SUMMARY:Dinner In
DESCRIPTION:On Saturday\, February 21\, Members are invited to join us for an intimate dinner experience at Brave & Maiden with Chef Megan Mitchell and Winemaker Wynne Sargeant. This rare\, interactive experience focuses on stories and craft rather than a formal lecture. With only 14 seats available\, we expect spots to fill quickly. \nMenu \nCave cheese\, olives\, seeded crackers\, and nuts \nSalmon crudo with fresh citrus\, cucumbers\, and herb salsa \n2024 Limited Sauvignon Blanc \nTuna crudo with lime and chili crisp \n2022 Limited Grenache \nDelicata squash\, sage and bacon individual ravioli \n2022 Limited Cabernet Sauvignon \nBlood orange palate cleanser \nShort ribs with roasted red pepper\, potato\, crispy capers\, and herbs \n2019 Bequest \nSalted dark chocolate pot de crèmes
URL:https://braveandmaiden.com/event/dinner-in-an-intimate-experience-at-brave-maiden/
LOCATION:Brave & Maiden Estate\, 649 N Refugio Rd\, Santa Ynez\, CA\, 93460\, United States
CATEGORIES:Members Only
ATTACH;FMTTYPE=image/jpeg:https://braveandmaiden.com/wp-content/uploads/2026/01/PRIVATE.EVENTS-1920x1080-1.jpg
END:VEVENT
BEGIN:VEVENT
DTSTART;TZID=America/Los_Angeles:20260321T110000
DTEND;TZID=America/Los_Angeles:20260321T150000
DTSTAMP:20260424T081741
CREATED:20260109T183446Z
LAST-MODIFIED:20260302T210016Z
UID:657-1774090800-1774105200@braveandmaiden.com
SUMMARY:The Spring 2026 Allocation Release Event
DESCRIPTION:Members are invited to attend a walk-around tasting event across the property\, featuring our 2023 releases paired with cuisine prepared specifically to complement the wines\, accompanied by live music from internationally acclaimed musician Shawn Jones. Attendees are welcome to join us anytime between 11 AM and 3 PM. \n 
URL:https://braveandmaiden.com/event/the-spring-allocation-event/
LOCATION:Brave & Maiden Estate\, 649 N Refugio Rd\, Santa Ynez\, CA\, 93460\, United States
CATEGORIES:Members Only
ATTACH;FMTTYPE=image/jpeg:https://braveandmaiden.com/wp-content/uploads/2026/01/R5A_6764.jpg
END:VEVENT
BEGIN:VEVENT
DTSTART;TZID=America/Los_Angeles:20260425T113000
DTEND;TZID=America/Los_Angeles:20260425T133000
DTSTAMP:20260424T081741
CREATED:20260109T184045Z
LAST-MODIFIED:20260318T193210Z
UID:659-1777116600-1777123800@braveandmaiden.com
SUMMARY:Nojoqui Falls BBQ Event
DESCRIPTION:Our name finds its roots in the local folklore of Nojoqui Falls—a story of devotion that continues to inspire our commitment to excellence today. This May\, we invite you to step away from the everyday and join us where our story began for an afternoon of community\, connection\, and exceptional wine in nature. \nThe Plan \n11:30 AM | The Waterfall Walk: We’ll kick things off with a gentle\, one-mile shaded stroll to the falls. It’s a scenic\, easy-elevation path—perfect for working up an appetite while taking in the lush greenery. \n12:15 PM | Al Fresco Barbecue: After the walk\, we’ll gather in the park’s picnic grounds for a classic barbecue lunch by La Dolce Vita. \nThe Main Event \nWhile we will be pouring a curated selection of our limited-production wines\, the star of the afternoon will be the debut of our 2023 Limited Malbec. This will be your first opportunity to taste this vibrant\, small-lot release in a relaxed\, open-air setting. \nDetails \nWhen: Saturday\, April 25 | 11:30 AM – 1:30 PM \nWhere: Nojoqui Falls Park\, Santa Ynez Valley \nPurchase your Tickets
URL:https://braveandmaiden.com/event/nojoqui-falls-bbq-event/
LOCATION:Nojoqui Falls Park\, 3250 Alisal Rd\, Solvang\, CA\, 93463\, United States
ATTACH;FMTTYPE=image/jpeg:https://braveandmaiden.com/wp-content/uploads/2026/01/R5A_9711.jpg
END:VEVENT
BEGIN:VEVENT
DTSTART;TZID=America/Los_Angeles:20260605T170000
DTEND;TZID=America/Los_Angeles:20260605T210000
DTSTAMP:20260424T081741
CREATED:20260304T213849Z
LAST-MODIFIED:20260320T213050Z
UID:911-1780678800-1780693200@braveandmaiden.com
SUMMARY:After Hours at the Estate Kickoff with a Pride Celebration
DESCRIPTION:Join us for the debut of our seasonal After Hours at the Estate series! We’re kicking things off with a vibrant Pride celebration and community gathering. Enjoy an evening of music\, incredible food\, and Brave & Maiden wines as the sun sets over the estate. \nA percentage of the evening’s proceeds will be donated to the Pacific Pride Foundation – SYV Pride to support our local community. \nDate: June 5 \nTime: 5 – 9 PM \nFood: Buffet-style service by Les Fêtes by Jake O. Francis \nEntertainment: Live DJ \nWine: Available for purchase by the glass and by the bottle \nTickets Coming Soon
URL:https://braveandmaiden.com/event/kick-off-after-hours-at-the-estate-with-a-pride-celebration/
ATTACH;FMTTYPE=image/jpeg:https://braveandmaiden.com/wp-content/uploads/2026/03/R5B_4805.jpg
END:VEVENT
BEGIN:VEVENT
DTSTART;TZID=America/Los_Angeles:20260612T170000
DTEND;TZID=America/Los_Angeles:20260612T190000
DTSTAMP:20260424T081741
CREATED:20260304T215605Z
LAST-MODIFIED:20260324T211503Z
UID:913-1781283600-1781290800@braveandmaiden.com
SUMMARY:After Hours at the Estate
DESCRIPTION:Join us for our seasonal After Hours at the Estate series! Experience the estate as the sun sets with an evening of music and Brave & Maiden wines. It’s the perfect way to unwind and enjoy the beauty of the vineyard in a relaxed atmosphere. \nTime: 5 – 7 PM \nEntertainment: Live acoustic music by local artists \nWine: Available by the glass and by the bottle \nDates & Musicians: \nJune 12: James Johnson \nJune 26: Keith Cox / Different Strings \nJuly 10: Steven Powers \nJuly 24: Will Breman \nAugust 14: Nataly Lola \nAugust 28: Keith Cox / Different Strings \nSeptember 4: James Johnson \nSeptember 18: Will Breman \nOctober 2: Talie Copen / Natalie Skarda \nTickets Coming Soon
URL:https://braveandmaiden.com/event/after-hours-at-the-estate/
ATTACH;FMTTYPE=image/jpeg:https://braveandmaiden.com/wp-content/uploads/2026/03/R5A_0706.jpg
END:VEVENT
BEGIN:VEVENT
DTSTART;TZID=America/Los_Angeles:20260801T173000
DTEND;TZID=America/Los_Angeles:20260801T203000
DTSTAMP:20260424T081741
CREATED:20260304T223915Z
LAST-MODIFIED:20260308T232656Z
UID:916-1785605400-1785616200@braveandmaiden.com
SUMMARY:Dinner Out: An Alfresco Summer Supper
DESCRIPTION:The lingering days of summer in wine country provide the perfect setting for an evening in our olive tree–lined courtyard. Join us on Saturday\, August 1st for Dinner Out\, our annual alfresco summer supper celebrating great food\, wine\, and community at Brave & Maiden Estate. \nChef Brett Stephen of High on the Hog Catering will return to present a seasonal menu inspired by the best ingredients of the summer. \nAdditional details\, including the full menu\, evening schedule\, and tickets\, will be shared as we get closer to the event. \nWe look forward to welcoming members and guests for another unforgettable evening at the estate.
URL:https://braveandmaiden.com/event/dinner-out-an-alfresco-summer-supper/
LOCATION:Brave & Maiden Estate\, 649 N Refugio Rd\, Santa Ynez\, CA\, 93460\, United States
CATEGORIES:Members Only
ATTACH;FMTTYPE=image/jpeg:https://braveandmaiden.com/wp-content/uploads/2026/01/IMG_1992-1-scaled.jpg
END:VEVENT
END:VCALENDAR