BEGIN:VCALENDAR
VERSION:2.0
PRODID:-//Brave &amp; Maiden Estate - ECPv6.15.20//NONSGML v1.0//EN
CALSCALE:GREGORIAN
METHOD:PUBLISH
X-WR-CALNAME:Brave &amp; Maiden Estate
X-ORIGINAL-URL:https://braveandmaiden.com
X-WR-CALDESC:Events for Brave &amp; Maiden Estate
REFRESH-INTERVAL;VALUE=DURATION:PT1H
X-Robots-Tag:noindex
X-PUBLISHED-TTL:PT1H
BEGIN:VTIMEZONE
TZID:America/Los_Angeles
BEGIN:DAYLIGHT
TZOFFSETFROM:-0800
TZOFFSETTO:-0700
TZNAME:PDT
DTSTART:20240310T100000
END:DAYLIGHT
BEGIN:STANDARD
TZOFFSETFROM:-0700
TZOFFSETTO:-0800
TZNAME:PST
DTSTART:20241103T090000
END:STANDARD
BEGIN:DAYLIGHT
TZOFFSETFROM:-0800
TZOFFSETTO:-0700
TZNAME:PDT
DTSTART:20250309T100000
END:DAYLIGHT
BEGIN:STANDARD
TZOFFSETFROM:-0700
TZOFFSETTO:-0800
TZNAME:PST
DTSTART:20251102T090000
END:STANDARD
BEGIN:DAYLIGHT
TZOFFSETFROM:-0800
TZOFFSETTO:-0700
TZNAME:PDT
DTSTART:20260308T100000
END:DAYLIGHT
BEGIN:STANDARD
TZOFFSETFROM:-0700
TZOFFSETTO:-0800
TZNAME:PST
DTSTART:20261101T090000
END:STANDARD
END:VTIMEZONE
BEGIN:VEVENT
DTSTART;VALUE=DATE:20251004
DTEND;VALUE=DATE:20251006
DTSTAMP:20260424T093611
CREATED:20250916T020253Z
LAST-MODIFIED:20260110T004714Z
UID:299-1759536000-1759708799@braveandmaiden.com
SUMMARY:Fall Members Allocation Event
DESCRIPTION:It’s harvest season—a time of energy\, tradition\, and celebration at Brave & Maiden. \nWe invite you to a special experience that brings you closer to the heart of the season. Join our winemakers and team in Block 1 of the vineyard and our production space for an inside look at our land\, our grapes\, and the process behind the wines you love. \nAfterward\, gather with us in the courtyard for a relaxed\, wine-filled moment featuring a BBQ buffet by Chef Brett Stephen of High on the Hog Catering\, thoughtfully paired with our current releases. Please note\, this is a light\, seasonal spread designed to complement the wines rather than a full meal. \nWe hope you’ll join us for this flavorful and festive celebration of the season\, shared among fellow members—with a fun raffle and a special prize to top it all off. \nTickets coming soon
URL:https://braveandmaiden.com/event/fall-members-allocation-event/
LOCATION:Brave & Maiden Estate\, 649 N Refugio Rd\, Santa Ynez\, CA\, 93460\, United States
CATEGORIES:Members Only
ORGANIZER;CN="Brave & Maiden Estate":MAILTO:inquiries@braveandmaiden.com
END:VEVENT
BEGIN:VEVENT
DTSTART;TZID=America/Los_Angeles:20251003T170000
DTEND;TZID=America/Los_Angeles:20251003T190000
DTSTAMP:20260424T093611
CREATED:20250916T023746Z
LAST-MODIFIED:20250929T012748Z
UID:304-1759510800-1759518000@braveandmaiden.com
SUMMARY:Summer Sunsets
DESCRIPTION:Join us for a rare after-hours experience at the estate. As the sun sets over the vineyard\, unwind with a glass of wine in our courtyard and enjoy a relaxed evening among fellow Brave & Maiden enthusiasts. \nEach evening will feature live music from a local musician\, creating the perfect atmosphere to enjoy the golden hour with good wine and great company. \nThis casual gathering features non-reserved seating in our courtyard\, inviting you to settle in and savor the experience at your own pace. \nEvent Time: 5:00 PM – 7:00 PM\nIncludes: One glass of your choice — ’24 Limited Rose’\, ’23 Estate Sauvignon Blanc\, or ’21 Union Red Blend\nAdditional wine by the glass or bottle will be available for purchase. \nTickets\nPlease note:\nThis is not a guided tasting experience\nMember benefits do not apply\nGuests must be 21 or older \nSummer Sunsets will take place on the following Fridays:\nJune 13 • June 27 • July 11 • July 25 • August 1 • August 15 • August 29 • September 19 • September 26 • October 3
URL:https://braveandmaiden.com/event/summer-sunsets/
LOCATION:Brave & Maiden Estate\, 649 N Refugio Rd\, Santa Ynez\, CA\, 93460\, United States
ATTACH;FMTTYPE=image/jpeg:https://braveandmaiden.com/wp-content/uploads/2025/09/events-5.jpg
ORGANIZER;CN="Brave & Maiden Estate":MAILTO:inquiries@braveandmaiden.com
END:VEVENT
END:VCALENDAR